BEGIN:VCALENDAR
VERSION:2.0
PRODID:-//hacksw/handcal//NONSGML v1.0//EN
BEGIN:VEVENT
SUMMARY:Chpt Dep Triplette Masculin 8H30, Triplette Feminin 14H00
UID:d2a12be1-ccad-4ccc-9ddc-1190fe923c63
DTSTART:20260411T063000Z
DTEND:20260411T220000Z
LOCATION:Localisation CHAURAY  
CATEGORIES:Sportif
STATUS:
URL;VALUE=URI:https://www.petanque79.com/evenements/2026/04/11/chpt-dep-triplette-masculin-8h30-triplette-feminin-14h00-2360793
END:VEVENT
END:VCALENDAR
