BEGIN:VCALENDAR
VERSION:2.0
PRODID:-//hacksw/handcal//NONSGML v1.0//EN
BEGIN:VEVENT
SUMMARY:Chpt Dep SF3 et SM3 8H30
UID:733e03c4-807c-447a-bede-bcfed2a759dc
DTSTART:20260412T063000Z
DTEND:20260412T220000Z
LOCATION:Localisation CHAURAY  
CATEGORIES:Sportif
STATUS:
URL;VALUE=URI:https://www.petanque79.com/evenements/2026/04/12/chpt-dep-sf3-et-sm3-8h30-2360796
END:VEVENT
END:VCALENDAR
